BEGIN:VCALENDAR
VERSION:2.0
PRODID:-//Arcade Comedy Theater - ECPv6.15.20//NONSGML v1.0//EN
CALSCALE:GREGORIAN
METHOD:PUBLISH
X-ORIGINAL-URL:https://www.arcadecomedytheater.com
X-WR-CALDESC:Events for Arcade Comedy Theater
REFRESH-INTERVAL;VALUE=DURATION:PT1H
X-Robots-Tag:noindex
X-PUBLISHED-TTL:PT1H
BEGIN:VTIMEZONE
TZID:America/New_York
BEGIN:DAYLIGHT
TZOFFSETFROM:-0500
TZOFFSETTO:-0400
TZNAME:EDT
DTSTART:20250309T070000
END:DAYLIGHT
BEGIN:STANDARD
TZOFFSETFROM:-0400
TZOFFSETTO:-0500
TZNAME:EST
DTSTART:20251102T060000
END:STANDARD
BEGIN:DAYLIGHT
TZOFFSETFROM:-0500
TZOFFSETTO:-0400
TZNAME:EDT
DTSTART:20260308T070000
END:DAYLIGHT
BEGIN:STANDARD
TZOFFSETFROM:-0400
TZOFFSETTO:-0500
TZNAME:EST
DTSTART:20261101T060000
END:STANDARD
BEGIN:DAYLIGHT
TZOFFSETFROM:-0500
TZOFFSETTO:-0400
TZNAME:EDT
DTSTART:20270314T070000
END:DAYLIGHT
BEGIN:STANDARD
TZOFFSETFROM:-0400
TZOFFSETTO:-0500
TZNAME:EST
DTSTART:20271107T060000
END:STANDARD
END:VTIMEZONE
BEGIN:VEVENT
DTSTART;TZID=America/New_York:20260702T190000
DTEND;TZID=America/New_York:20260702T190000
DTSTAMP:20260423T163610
CREATED:20260211T233646Z
LAST-MODIFIED:20260211T233652Z
UID:10001272-1783018800-1783018800@www.arcadecomedytheater.com
SUMMARY:Fool Moon
DESCRIPTION:Fool Moon is an live game show where comedians are not what they seem. Come watch as our team of improvisers build the story of a village preyed upon by Werewolves with your suggestions and before your very eyes. Will the Werewolves manage to devour the town\, or will the townsfolk manage to stop them? Only one way to find out: attend the show!\nThis show the Fang Gang is joined by special guests Mary Quick\, Mike Madsen\, Kendall White and Maddy Paige! Watch as they expose treacherous lycanthropes…or make a meal of their new town.
URL:https://www.arcadecomedytheater.com/event/fool-moon-4/
ATTACH;FMTTYPE=image/png:https://www.arcadecomedytheater.com/wp-content/uploads/2026/01/comedy-bingo-with-barbara-a-mother-2.png
END:VEVENT
BEGIN:VEVENT
DTSTART;TZID=America/New_York:20260702T190000
DTEND;TZID=America/New_York:20260702T190000
DTSTAMP:20260423T163610
CREATED:20260401T153436Z
LAST-MODIFIED:20260401T153440Z
UID:10001325-1783018800-1783018800@www.arcadecomedytheater.com
SUMMARY:Class Show - IMPROV 301
DESCRIPTION:Arcade Academy 2026 Session 3 \nIMPROV 301: The Harold Class Show! \nHosted by class instructor Greg Gillotti.
URL:https://www.arcadecomedytheater.com/event/class-show-improv-301-3/
ATTACH;FMTTYPE=image/png:https://www.arcadecomedytheater.com/wp-content/uploads/2026/03/academy_purp.png
END:VEVENT
BEGIN:VEVENT
DTSTART;TZID=America/New_York:20260702T200000
DTEND;TZID=America/New_York:20260702T200000
DTSTAMP:20260423T163610
CREATED:20260401T153529Z
LAST-MODIFIED:20260401T153534Z
UID:10001326-1783022400-1783022400@www.arcadecomedytheater.com
SUMMARY:Class Show - IMPROV 301
DESCRIPTION:Arcade Academy 2026 Session 3 \nIMPROV 301: The Harold Class Show! \nHosted by class instructor Greg Gillotti.
URL:https://www.arcadecomedytheater.com/event/class-show-improv-301-4/
ATTACH;FMTTYPE=image/jpeg:https://www.arcadecomedytheater.com/wp-content/uploads/2026/03/academy_yellow.jpeg
END:VEVENT
BEGIN:VEVENT
DTSTART;TZID=America/New_York:20260710T190000
DTEND;TZID=America/New_York:20260710T190000
DTSTAMP:20260423T163610
CREATED:20260401T153650Z
LAST-MODIFIED:20260401T153655Z
UID:10001329-1783710000-1783710000@www.arcadecomedytheater.com
SUMMARY:Duo Two Ways
DESCRIPTION:Watch veteran improvisers Fred Brown and Scott Pettis perform two very different improv styles. First\, the form known as the “TJ & Dave\,” – patient\, theatrical\, naturalistic. Second\, the “Zumpf” – fast\, bold\, always moving. Whether you’re simply looking for an entertaining show or you’re a dedicated improv nerd\, this show will leave you thinking\, “wow.” Scott was trained in Chicago. Fred was trained in Philadelphia. They met in the spring of 2023. They realized\, “hey we really like performing together.” So they are doing that.
URL:https://www.arcadecomedytheater.com/event/duo-two-ways-15/
ATTACH;FMTTYPE=image/png:https://www.arcadecomedytheater.com/wp-content/uploads/2026/03/duo-two-ways.png
END:VEVENT
END:VCALENDAR