BEGIN:VCALENDAR
VERSION:2.0
PRODID:-//Arcade Comedy Theater - ECPv6.15.20//NONSGML v1.0//EN
CALSCALE:GREGORIAN
METHOD:PUBLISH
X-ORIGINAL-URL:https://www.arcadecomedytheater.com
X-WR-CALDESC:Events for Arcade Comedy Theater
REFRESH-INTERVAL;VALUE=DURATION:PT1H
X-Robots-Tag:noindex
X-PUBLISHED-TTL:PT1H
BEGIN:VTIMEZONE
TZID:America/New_York
BEGIN:DAYLIGHT
TZOFFSETFROM:-0500
TZOFFSETTO:-0400
TZNAME:EDT
DTSTART:20240310T070000
END:DAYLIGHT
BEGIN:STANDARD
TZOFFSETFROM:-0400
TZOFFSETTO:-0500
TZNAME:EST
DTSTART:20241103T060000
END:STANDARD
BEGIN:DAYLIGHT
TZOFFSETFROM:-0500
TZOFFSETTO:-0400
TZNAME:EDT
DTSTART:20250309T070000
END:DAYLIGHT
BEGIN:STANDARD
TZOFFSETFROM:-0400
TZOFFSETTO:-0500
TZNAME:EST
DTSTART:20251102T060000
END:STANDARD
BEGIN:DAYLIGHT
TZOFFSETFROM:-0500
TZOFFSETTO:-0400
TZNAME:EDT
DTSTART:20260308T070000
END:DAYLIGHT
BEGIN:STANDARD
TZOFFSETFROM:-0400
TZOFFSETTO:-0500
TZNAME:EST
DTSTART:20261101T060000
END:STANDARD
BEGIN:DAYLIGHT
TZOFFSETFROM:-0500
TZOFFSETTO:-0400
TZNAME:EDT
DTSTART:20270314T070000
END:DAYLIGHT
BEGIN:STANDARD
TZOFFSETFROM:-0400
TZOFFSETTO:-0500
TZNAME:EST
DTSTART:20271107T060000
END:STANDARD
END:VTIMEZONE
BEGIN:VEVENT
DTSTART;TZID=America/New_York:20251101T200000
DTEND;TZID=America/New_York:20251101T200000
DTSTAMP:20260423T182150
CREATED:20250810T194812Z
LAST-MODIFIED:20250810T194817Z
UID:10001034-1762027200-1762027200@www.arcadecomedytheater.com
SUMMARY:Irony City: Am I the Jagoff?
DESCRIPTION:Join veteran comedy troupe Irony City as they deftly navigate social missteps on the first Saturday of each month. We’ve all been there: acted out at a wedding when there was no cookie table\, ordered fries on a salad at a fancy restaurant\, or dared to move a parking chair – afterward wondering\, “Am I the Jagoff?” \nEach show\, the audience shares stories about some real Jagoff moments\, sparking hilarious improvised scenes from Irony City. \nRuntime: 75 minutes \nTickets $15 / $10 college studentsAges 16 & upBYOB 21+
URL:https://www.arcadecomedytheater.com/event/irony-city-am-i-the-jagoff-13/
ATTACH;FMTTYPE=image/jpeg:https://www.arcadecomedytheater.com/wp-content/uploads/2025/03/Jagoff-Newsletter-Evergreen.jpg
END:VEVENT
BEGIN:VEVENT
DTSTART;TZID=America/New_York:20251206T200000
DTEND;TZID=America/New_York:20251206T200000
DTSTAMP:20260423T182151
CREATED:20251005T031402Z
LAST-MODIFIED:20251005T031406Z
UID:10001134-1765051200-1765051200@www.arcadecomedytheater.com
SUMMARY:Irony City: Am I The Jagoff?
DESCRIPTION:Join veteran comedy troupe Irony City as they deftly navigate social missteps on the first Saturday of each month. We’ve all been there: acted out at a wedding when there was no cookie table\, ordered fries on a salad at a fancy restaurant\, or dared to move a parking chair – afterward wondering\, “Am I the Jagoff?” \nEach show\, the audience shares stories about some real Jagoff moments\, sparking hilarious improvised scenes from Irony City. \nRuntime: 75 minutes \nTickets $15 / $10 college studentsAges 16 & upBYOB 21+
URL:https://www.arcadecomedytheater.com/event/irony-city-am-i-the-jagoff-14/
ATTACH;FMTTYPE=image/jpeg:https://www.arcadecomedytheater.com/wp-content/uploads/2025/08/irony-city-am-i-the-jagoff-1.jpg
END:VEVENT
BEGIN:VEVENT
DTSTART;TZID=America/New_York:20260103T200000
DTEND;TZID=America/New_York:20260103T200000
DTSTAMP:20260423T182151
CREATED:20251212T111049Z
LAST-MODIFIED:20260104T004740Z
UID:10001192-1767470400-1767470400@www.arcadecomedytheater.com
SUMMARY:Irony City: Am I The Jagoff?
DESCRIPTION:Join veteran comedy troupe Irony City as they deftly navigate social missteps on the first Saturday of each month. We’ve all been there: acted out at a wedding when there was no cookie table\, ordered fries on a salad at a fancy restaurant\, or dared to move a parking chair – afterward wondering\, “Am I the Jagoff?” \nEach show\, the audience shares stories about some real Jagoff moments\, sparking hilarious improvised scenes from Irony City. \nRuntime: 75 minutes \nTickets $15 / $10 college students\nAges 16 & up\nBYOB 21+
URL:https://www.arcadecomedytheater.com/event/irony-city-am-i-the-jagoff-15/
ATTACH;FMTTYPE=image/jpeg:https://www.arcadecomedytheater.com/wp-content/uploads/2025/08/irony-city-am-i-the-jagoff-1.jpg
END:VEVENT
BEGIN:VEVENT
DTSTART;TZID=America/New_York:20260207T200000
DTEND;TZID=America/New_York:20260207T200000
DTSTAMP:20260423T182151
CREATED:20251230T010456Z
LAST-MODIFIED:20260114T164718Z
UID:10001202-1770494400-1770494400@www.arcadecomedytheater.com
SUMMARY:Irony City: Am I The Jagoff?
DESCRIPTION:Join veteran comedy troupe Irony City as they deftly navigate social missteps on the first Saturday of each month. We’ve all been there: acted out at a wedding when there was no cookie table\, ordered fries on a salad at a fancy restaurant\, or dared to move a parking chair – afterward wondering\, “Am I the Jagoff?” \nEach show\, the audience shares stories about some real Jagoff moments\, sparking hilarious improvised scenes from Irony City. \nRuntime: 75 minutes \nTickets $15 / $10 college students\nAges 16 & up\nBYOB 21+
URL:https://www.arcadecomedytheater.com/event/irony-city-am-i-the-jagoff-16/
ATTACH;FMTTYPE=image/jpeg:https://www.arcadecomedytheater.com/wp-content/uploads/2025/08/irony-city-am-i-the-jagoff-1.jpg
END:VEVENT
BEGIN:VEVENT
DTSTART;TZID=America/New_York:20260307T200000
DTEND;TZID=America/New_York:20260307T200000
DTSTAMP:20260423T182151
CREATED:20260121T223421Z
LAST-MODIFIED:20260227T141639Z
UID:10001238-1772913600-1772913600@www.arcadecomedytheater.com
SUMMARY:Irony City: Am I The Jagoff?
DESCRIPTION:Join veteran comedy troupe Irony City as they deftly navigate social missteps on the first Saturday of each month. We’ve all been there: acted out at a wedding when there was no cookie table\, ordered fries on a salad at a fancy restaurant\, or dared to move a parking chair – afterward wondering\, “Am I the Jagoff?” \nEach show\, the audience shares stories about some real Jagoff moments\, sparking hilarious improvised scenes from Irony City. \nRuntime: 75 minutes \nTickets $15 / $10 college students\nAges 16 & up\nBYOB 21+
URL:https://www.arcadecomedytheater.com/event/irony-city-am-i-the-jagoff-17/
ATTACH;FMTTYPE=image/jpeg:https://www.arcadecomedytheater.com/wp-content/uploads/2025/08/irony-city-am-i-the-jagoff.jpg
END:VEVENT
BEGIN:VEVENT
DTSTART;TZID=America/New_York:20260404T200000
DTEND;TZID=America/New_York:20260404T200000
DTSTAMP:20260423T182151
CREATED:20260121T225837Z
LAST-MODIFIED:20260227T141545Z
UID:10001245-1775332800-1775332800@www.arcadecomedytheater.com
SUMMARY:Irony City: Am I The Jagoff?
DESCRIPTION:Join veteran comedy troupe Irony City as they deftly navigate social missteps on the first Saturday of each month. We’ve all been there: acted out at a wedding when there was no cookie table\, ordered fries on a salad at a fancy restaurant\, or dared to move a parking chair – afterward wondering\, “Am I the Jagoff?” \nEach show\, the audience shares stories about some real Jagoff moments\, sparking hilarious improvised scenes from Irony City. \nRuntime: 75 minutes \nTickets $15 / $10 college students\nAges 16 & up\nBYOB 21+
URL:https://www.arcadecomedytheater.com/event/irony-city-am-i-the-jagoff-18/
ATTACH;FMTTYPE=image/jpeg:https://www.arcadecomedytheater.com/wp-content/uploads/2025/08/irony-city-am-i-the-jagoff.jpg
END:VEVENT
BEGIN:VEVENT
DTSTART;TZID=America/New_York:20260502T200000
DTEND;TZID=America/New_York:20260502T200000
DTSTAMP:20260423T182151
CREATED:20260401T153737Z
LAST-MODIFIED:20260401T153741Z
UID:10001308-1777752000-1777752000@www.arcadecomedytheater.com
SUMMARY:Irony City: Am I The Jagoff?
DESCRIPTION:Join veteran comedy troupe Irony City as they deftly navigate social missteps on the first Saturday of each month. We’ve all been there: acted out at a wedding when there was no cookie table\, ordered fries on a salad at a fancy restaurant\, or dared to move a parking chair – afterward wondering\, “Am I the Jagoff?” \nEach show\, the audience shares stories about some real Jagoff moments\, sparking hilarious improvised scenes from Irony City. \nRuntime: 75 minutes \nTickets $15 / $10 college students\nAges 16 & up\nBYOB 21+
URL:https://www.arcadecomedytheater.com/event/irony-city-am-i-the-jagoff-19/
ATTACH;FMTTYPE=image/jpeg:https://www.arcadecomedytheater.com/wp-content/uploads/2026/01/irony-city-am-i-the-jagoff-1.jpg
END:VEVENT
END:VCALENDAR