BEGIN:VCALENDAR
VERSION:2.0
PRODID:-//Arcade Comedy Theater - ECPv6.15.20//NONSGML v1.0//EN
CALSCALE:GREGORIAN
METHOD:PUBLISH
X-WR-CALNAME:Arcade Comedy Theater
X-ORIGINAL-URL:https://www.arcadecomedytheater.com
X-WR-CALDESC:Events for Arcade Comedy Theater
REFRESH-INTERVAL;VALUE=DURATION:PT1H
X-Robots-Tag:noindex
X-PUBLISHED-TTL:PT1H
BEGIN:VTIMEZONE
TZID:America/New_York
BEGIN:DAYLIGHT
TZOFFSETFROM:-0500
TZOFFSETTO:-0400
TZNAME:EDT
DTSTART:20220313T070000
END:DAYLIGHT
BEGIN:STANDARD
TZOFFSETFROM:-0400
TZOFFSETTO:-0500
TZNAME:EST
DTSTART:20221106T060000
END:STANDARD
BEGIN:DAYLIGHT
TZOFFSETFROM:-0500
TZOFFSETTO:-0400
TZNAME:EDT
DTSTART:20230312T070000
END:DAYLIGHT
BEGIN:STANDARD
TZOFFSETFROM:-0400
TZOFFSETTO:-0500
TZNAME:EST
DTSTART:20231105T060000
END:STANDARD
BEGIN:DAYLIGHT
TZOFFSETFROM:-0500
TZOFFSETTO:-0400
TZNAME:EDT
DTSTART:20240310T070000
END:DAYLIGHT
BEGIN:STANDARD
TZOFFSETFROM:-0400
TZOFFSETTO:-0500
TZNAME:EST
DTSTART:20241103T060000
END:STANDARD
BEGIN:DAYLIGHT
TZOFFSETFROM:-0500
TZOFFSETTO:-0400
TZNAME:EDT
DTSTART:20250309T070000
END:DAYLIGHT
BEGIN:STANDARD
TZOFFSETFROM:-0400
TZOFFSETTO:-0500
TZNAME:EST
DTSTART:20251102T060000
END:STANDARD
END:VTIMEZONE
BEGIN:VEVENT
DTSTART;TZID=America/New_York:20240803T200000
DTEND;TZID=America/New_York:20240803T200000
DTSTAMP:20260424T171547
CREATED:20240630T200710Z
LAST-MODIFIED:20240630T200714Z
UID:10000479-1722715200-1722715200@www.arcadecomedytheater.com
SUMMARY:Irony CIty: Am I The Jagoff
DESCRIPTION:Improv comedy night!\nJoin veteran comedy troupe Irony City as they deftly navigate social missteps on the first Saturday each month. You’ve been there: acted out at a wedding when there was no cookie table\, ordered fries on a salad at a fancy restaurant\, or dared to move a parking chair – afterwards wondering\, “Am I the Jagoff?” \nJoin us as a local comedian confesses a potential jagoff moment\, sparking hilarious improvised scenes from Irony City. In the end\, YOU will judge: were they the jagoff? Don’t miss this popular monthly show featuring some of the city’s most experienced improvisers. \n			\n				Get Tickets
URL:https://www.arcadecomedytheater.com/event/irony-city-am-i-the-jagoff/
LOCATION:Arcade Comedy Theater\, 943 Liberty Ave.\, Pittsburgh\, PA\, 15222\, United States
CATEGORIES:Improv,Storytelling
ATTACH;FMTTYPE=image/jpeg:https://www.arcadecomedytheater.com/wp-content/uploads/2024/03/Irony-City-Jagoff-Social-evergreen.jpg
ORGANIZER;CN="Arcade Comedy Theater":MAILTO:info@arcadecomedytheater.com
GEO:40.4434601;-79.9964753
X-APPLE-STRUCTURED-LOCATION;VALUE=URI;X-ADDRESS=Arcade Comedy Theater 943 Liberty Ave. Pittsburgh PA 15222 United States;X-APPLE-RADIUS=500;X-TITLE=943 Liberty Ave.:geo:-79.9964753,40.4434601
END:VEVENT
BEGIN:VEVENT
DTSTART;TZID=America/New_York:20240706T200000
DTEND;TZID=America/New_York:20240706T200000
DTSTAMP:20260424T171548
CREATED:20240521T174631Z
LAST-MODIFIED:20240703T155751Z
UID:10000444-1720296000-1720296000@www.arcadecomedytheater.com
SUMMARY:Irony City: Am I The Jagoff?
DESCRIPTION:Improv comedy night!\nJoin veteran comedy troupe Irony City as they deftly navigate social missteps on the first Saturday each month. \nYou’ve been there: acted out at a wedding when there was no cookie table\, ordered fries on a salad at a fancy restaurant\, or dared to move a parking chair – afterwards wondering\, “Am I the Jagoff?” Each month\, a local storyteller confesses a potential jagoff moment\, sparking hilarious improvised scenes from Irony City. In the end\, YOU will judge: were they the jagoff? \nThis popular monthly show features an opening set by BIPOCALYPSE: improv from the global majority. \n			\n				Get Tickets
URL:https://www.arcadecomedytheater.com/event/irony-city-am-i-the-jagoff-2024-07-06-800pm/
LOCATION:Arcade Comedy Theater\, 943 Liberty Ave.\, Pittsburgh\, PA\, 15222\, United States
CATEGORIES:Improv,Storytelling
ATTACH;FMTTYPE=image/png:https://www.arcadecomedytheater.com/wp-content/uploads/2024/05/social-070624.png
ORGANIZER;CN="Irony City":MAILTO:chris.gillotti@gmail.com
GEO:40.4434601;-79.9964753
X-APPLE-STRUCTURED-LOCATION;VALUE=URI;X-ADDRESS=Arcade Comedy Theater 943 Liberty Ave. Pittsburgh PA 15222 United States;X-APPLE-RADIUS=500;X-TITLE=943 Liberty Ave.:geo:-79.9964753,40.4434601
END:VEVENT
BEGIN:VEVENT
DTSTART;TZID=America/New_York:20240601T200000
DTEND;TZID=America/New_York:20240601T200000
DTSTAMP:20260424T171548
CREATED:20240320T005744Z
LAST-MODIFIED:20240521T195036Z
UID:10000385-1717272000-1717272000@www.arcadecomedytheater.com
SUMMARY:Irony City: Am I the Jagoff
DESCRIPTION:Improv comedy night!\nJoin veteran comedy troupe Irony City as they deftly navigate social missteps on the first Saturday each month. You’ve been there: acted out at a wedding when there was no cookie table\, ordered fries on a salad at a fancy restaurant\, or dared to move a parking chair – afterwards wondering\, “Am I the Jagoff?” \nJoin us as a local comedian confesses a potential jagoff moment\, sparking hilarious improvised scenes from Irony City. In the end\, YOU will judge: were they the jagoff? Don’t miss this popular monthly show featuring some of the city’s most experienced improvisers. \n			\n				Get Tickets
URL:https://www.arcadecomedytheater.com/event/irony-city-am-i-the-jagoff-0624/
LOCATION:Arcade Comedy Theater\, 943 Liberty Ave.\, Pittsburgh\, PA\, 15222\, United States
CATEGORIES:Improv,Storytelling
ATTACH;FMTTYPE=image/jpeg:https://www.arcadecomedytheater.com/wp-content/uploads/2024/02/Irony-City-Jagoff-Facebook-Evergreen.jpg
ORGANIZER;CN="Irony City":MAILTO:chris.gillotti@gmail.com
GEO:40.4434601;-79.9964753
X-APPLE-STRUCTURED-LOCATION;VALUE=URI;X-ADDRESS=Arcade Comedy Theater 943 Liberty Ave. Pittsburgh PA 15222 United States;X-APPLE-RADIUS=500;X-TITLE=943 Liberty Ave.:geo:-79.9964753,40.4434601
END:VEVENT
BEGIN:VEVENT
DTSTART;TZID=America/New_York:20240504T190000
DTEND;TZID=America/New_York:20240504T190000
DTSTAMP:20260424T171548
CREATED:20240320T005659Z
LAST-MODIFIED:20240429T221701Z
UID:10000366-1714849200-1714849200@www.arcadecomedytheater.com
SUMMARY:Irony City: Am I the Jagoff
DESCRIPTION:Improv comedy night!\nJoin veteran comedy troupe Irony City as they deftly navigate social missteps on the first Saturday each month. You’ve been there: acted out at a wedding when there was no cookie table\, ordered fries on a salad at a fancy restaurant\, or dared to move a parking chair – afterwards wondering\, “Am I the Jagoff?” \nJoin us as a local comedian confesses a potential jagoff moment\, sparking hilarious improvised scenes from Irony City. In the end\, YOU will judge: were they the jagoff? Don’t miss this popular monthly show featuring some of the city’s most experienced improvisers. \n			\n				Get Tickets
URL:https://www.arcadecomedytheater.com/event/irony-city-am-i-the-jagoff-0524/
LOCATION:Arcade Comedy Theater\, 943 Liberty Ave.\, Pittsburgh\, PA\, 15222\, United States
CATEGORIES:Improv,Storytelling
ATTACH;FMTTYPE=image/png:https://www.arcadecomedytheater.com/wp-content/uploads/2024/03/ic-jagoff-instagram-5-4-1.png
ORGANIZER;CN="Irony City":MAILTO:chris.gillotti@gmail.com
GEO:40.4434601;-79.9964753
X-APPLE-STRUCTURED-LOCATION;VALUE=URI;X-ADDRESS=Arcade Comedy Theater 943 Liberty Ave. Pittsburgh PA 15222 United States;X-APPLE-RADIUS=500;X-TITLE=943 Liberty Ave.:geo:-79.9964753,40.4434601
END:VEVENT
BEGIN:VEVENT
DTSTART;TZID=America/New_York:20240406T200000
DTEND;TZID=America/New_York:20240406T200000
DTSTAMP:20260424T171548
CREATED:20240208T210713Z
LAST-MODIFIED:20240326T160953Z
UID:10000339-1712433600-1712433600@www.arcadecomedytheater.com
SUMMARY:Irony City: Am I the Jagoff?
DESCRIPTION:Join veteran comedy troupe Irony City as they deftly navigate social missteps on the first Saturday each month. You’ve been there: acted out at a wedding when there was no cookie table\, ordered fries on a salad at a fancy restaurant\, or dared to move a parking chair – afterwards wondering\, “Am I the Jagoff?”Join us as a local comedian confesses a potential jagoff moment\, sparking hilarious improvised scenes from Irony City. In the end\, YOU will judge: were they the jagoff?Don’t miss this popular monthly show featuring some of the city’s most experienced improvisers. \n			\n				Get Tickets
URL:https://www.arcadecomedytheater.com/event/irony-city-2304/
LOCATION:Arcade Comedy Theater\, 943 Liberty Ave.\, Pittsburgh\, PA\, 15222\, United States
CATEGORIES:Improv
ATTACH;FMTTYPE=image/jpeg:https://www.arcadecomedytheater.com/wp-content/uploads/2024/03/Irony-City-Jagoff-Social-evergreen.jpg
ORGANIZER;CN="Irony City":MAILTO:chris.gillotti@gmail.com
GEO:40.4434601;-79.9964753
X-APPLE-STRUCTURED-LOCATION;VALUE=URI;X-ADDRESS=Arcade Comedy Theater 943 Liberty Ave. Pittsburgh PA 15222 United States;X-APPLE-RADIUS=500;X-TITLE=943 Liberty Ave.:geo:-79.9964753,40.4434601
END:VEVENT
BEGIN:VEVENT
DTSTART;TZID=America/New_York:20240302T200000
DTEND;TZID=America/New_York:20240302T200000
DTSTAMP:20260424T171548
CREATED:20240208T210556Z
LAST-MODIFIED:20240228T205904Z
UID:10000316-1709409600-1709409600@www.arcadecomedytheater.com
SUMMARY:Irony City: Am I the Jagoff
DESCRIPTION:Improv comedy night!\nJoin veteran comedy troupe Irony City as they deftly navigate social missteps on the first Saturday each month. You’ve been there: acted out at a wedding when there was no cookie table\, ordered fries on a salad at a fancy restaurant\, or dared to move a parking chair – afterwards wondering\, “Am I the Jagoff?” Join us as a local comedian confesses a potential jagoff moment\, sparking hilarious improvised scenes from Irony City. In the end\, YOU will judge: were they the jagoff? March features storyteller Anne Casper\, with Seramillo and 8-Bit. \nDon’t miss this popular monthly show featuring some of the city’s most experienced improvisers. \n			\n				Get Tickets
URL:https://www.arcadecomedytheater.com/event/irony-city-2403/
LOCATION:Arcade Comedy Theater\, 943 Liberty Ave.\, Pittsburgh\, PA\, 15222\, United States
CATEGORIES:Improv
ATTACH;FMTTYPE=image/jpeg:https://www.arcadecomedytheater.com/wp-content/uploads/2024/02/Irony-City-Jagoff-Facebook-Evergreen.jpg
ORGANIZER;CN="Irony City":MAILTO:chris.gillotti@gmail.com
GEO:40.4434601;-79.9964753
X-APPLE-STRUCTURED-LOCATION;VALUE=URI;X-ADDRESS=Arcade Comedy Theater 943 Liberty Ave. Pittsburgh PA 15222 United States;X-APPLE-RADIUS=500;X-TITLE=943 Liberty Ave.:geo:-79.9964753,40.4434601
END:VEVENT
BEGIN:VEVENT
DTSTART;TZID=America/New_York:20240203T200000
DTEND;TZID=America/New_York:20240203T200000
DTSTAMP:20260424T171548
CREATED:20240120T001248Z
LAST-MODIFIED:20240126T212935Z
UID:10000289-1706990400-1706990400@www.arcadecomedytheater.com
SUMMARY:Irony CIty: Am I the Jagoff
DESCRIPTION:We’ve all been there. Maybe you disrupted a wedding that didn’t have a cookie table\, asked for fries on your salad at a fancy restaurant (what were you doing there anyway?)\, or heaven forbid\, moved a parking chair. You probably asked yourself at some point\, “Am I the Jagoff?”\nVeteran improv troupe Irony City will help answer those questions! Sort of. Each month a local comedian will tell us about a time where they MIGHT have been a jagoff. That story will inspire improvised scenes by Irony City\, and at the end\, we’ll all know\, were they the jagoff or not?\n			\n				Get Tickets
URL:https://www.arcadecomedytheater.com/event/irony-city-2402/
LOCATION:Arcade Comedy Theater\, 943 Liberty Ave.\, Pittsburgh\, PA\, 15222\, United States
CATEGORIES:Improv
ATTACH;FMTTYPE=image/png:https://www.arcadecomedytheater.com/wp-content/uploads/2022/04/IronyCity.png
ORGANIZER;CN="Irony City":MAILTO:chris.gillotti@gmail.com
GEO:40.4434601;-79.9964753
X-APPLE-STRUCTURED-LOCATION;VALUE=URI;X-ADDRESS=Arcade Comedy Theater 943 Liberty Ave. Pittsburgh PA 15222 United States;X-APPLE-RADIUS=500;X-TITLE=943 Liberty Ave.:geo:-79.9964753,40.4434601
END:VEVENT
BEGIN:VEVENT
DTSTART;TZID=America/New_York:20240106T200000
DTEND;TZID=America/New_York:20240106T200000
DTSTAMP:20260424T171548
CREATED:20231228T142740Z
LAST-MODIFIED:20240102T213800Z
UID:10000266-1704571200-1704571200@www.arcadecomedytheater.com
SUMMARY:Irony City: Am I the Jagoff?
DESCRIPTION:We’ve all been there. Maybe you disrupted a wedding that didn’t have a cookie table\, asked for fries on your salad at a fancy restaurant (what were you doing there anyway?)\, or heaven forbid\, moved a parking chair. You probably asked yourself at some point\, “Am I the Jagoff?”\nVeteran improv troupe Irony City will help answer those questions! Sort of. Each month a local comedian will tell us about a time where they MIGHT have been a jagoff. That story will inspire improvised scenes by Irony City\, and at the end\, we’ll all know\, were they the jagoff or not?\n			\n				Get Tickets
URL:https://www.arcadecomedytheater.com/event/irony-city-2401/
LOCATION:Arcade Comedy Theater\, 943 Liberty Ave.\, Pittsburgh\, PA\, 15222\, United States
CATEGORIES:Improv
ATTACH;FMTTYPE=image/png:https://www.arcadecomedytheater.com/wp-content/uploads/2022/04/IronyCity.png
ORGANIZER;CN="Irony City":MAILTO:chris.gillotti@gmail.com
GEO:40.4434601;-79.9964753
X-APPLE-STRUCTURED-LOCATION;VALUE=URI;X-ADDRESS=Arcade Comedy Theater 943 Liberty Ave. Pittsburgh PA 15222 United States;X-APPLE-RADIUS=500;X-TITLE=943 Liberty Ave.:geo:-79.9964753,40.4434601
END:VEVENT
BEGIN:VEVENT
DTSTART;TZID=America/New_York:20231202T200000
DTEND;TZID=America/New_York:20231202T200000
DTSTAMP:20260424T171548
CREATED:20231116T185650Z
LAST-MODIFIED:20231116T185654Z
UID:10000228-1701547200-1701547200@www.arcadecomedytheater.com
SUMMARY:Irony City: Am I the Jagoff?
DESCRIPTION:We’ve all been there. Maybe you disrupted a wedding that didn’t have a cookie table\, asked for fries on your salad at a fancy restaurant (what were you doing there anyway?)\, or heaven forbid\, moved a parking chair. You probably asked yourself at some point\, “Am I the Jagoff?”\n \nVeteran improv troupe Irony City will help answer those questions! Sort of. Each month a local comedian will tell us about a time where they MIGHT have been a jagoff. That story will inspire improvised scenes by Irony City\, and at the end\, we’ll all know\, were they the jagoff or not?\n			\n				Get Tickets
URL:https://www.arcadecomedytheater.com/event/irony-city-2312/
LOCATION:Arcade Comedy Theater\, 943 Liberty Ave.\, Pittsburgh\, PA\, 15222\, United States
CATEGORIES:Improv
ATTACH;FMTTYPE=image/png:https://www.arcadecomedytheater.com/wp-content/uploads/2022/04/IronyCity.png
GEO:40.4434601;-79.9964753
X-APPLE-STRUCTURED-LOCATION;VALUE=URI;X-ADDRESS=Arcade Comedy Theater 943 Liberty Ave. Pittsburgh PA 15222 United States;X-APPLE-RADIUS=500;X-TITLE=943 Liberty Ave.:geo:-79.9964753,40.4434601
END:VEVENT
BEGIN:VEVENT
DTSTART;TZID=America/New_York:20231007T200000
DTEND;TZID=America/New_York:20231007T200000
DTSTAMP:20260424T171548
CREATED:20230923T173657Z
LAST-MODIFIED:20230923T173900Z
UID:10000127-1696708800-1696708800@www.arcadecomedytheater.com
SUMMARY:Irony City: Am I the Jagoff?
DESCRIPTION:Improv comedy night!\nWe’ve all been there. Maybe you disrupted a wedding that didn’t have a cookie table\, asked for fries on your salad at a fancy restaurant (what were you doing there anyway?)\, or heaven forbid\, moved a parking chair. You probably asked yourself at some point\, “Am I the Jagoff?” \nVeteran improv troupe Irony City will help answer those questions! Sort of. Each month a local comedian will tell us about a time where they MIGHT have been a jagoff. That story will inspire improvised scenes by Irony City\, and at the end\, we’ll all know\, were they the jagoff or not? \n			\n				Get Tickets
URL:https://www.arcadecomedytheater.com/event/irony-city2310/
LOCATION:Arcade Comedy Theater\, 943 Liberty Ave.\, Pittsburgh\, PA\, 15222\, United States
CATEGORIES:Improv
ATTACH;FMTTYPE=image/png:https://www.arcadecomedytheater.com/wp-content/uploads/2022/04/IronyCity.png
ORGANIZER;CN="Irony City":MAILTO:chris.gillotti@gmail.com
GEO:40.4434601;-79.9964753
X-APPLE-STRUCTURED-LOCATION;VALUE=URI;X-ADDRESS=Arcade Comedy Theater 943 Liberty Ave. Pittsburgh PA 15222 United States;X-APPLE-RADIUS=500;X-TITLE=943 Liberty Ave.:geo:-79.9964753,40.4434601
END:VEVENT
BEGIN:VEVENT
DTSTART;TZID=America/New_York:20230902T200000
DTEND;TZID=America/New_York:20230902T200000
DTSTAMP:20260424T171548
CREATED:20230808T164624Z
LAST-MODIFIED:20230830T205738Z
UID:10000110-1693684800-1693684800@www.arcadecomedytheater.com
SUMMARY:Irony City: Am I the Jagoff?
DESCRIPTION:Improv comedy night!\nWe’ve all been there. Maybe you disrupted a wedding that didn’t have a cookie table\, asked for fries on your salad at a fancy restaurant (what were you doing there anyway?)\, or heaven forbid\, moved a parking chair. You probably asked yourself at some point\, “Am I the Jagoff?” \nVeteran improv troupe Irony City will help answer those questions! Sort of. Each month a local comedian will tell us about a time where they MIGHT have been a jagoff. That story will inspire improvised scenes by Irony City\, and at the end\, we’ll all know\, were they the jagoff or not? \n			\n				Get Tickets
URL:https://www.arcadecomedytheater.com/event/irony-city-2309/
LOCATION:Arcade Comedy Theater\, 943 Liberty Ave.\, Pittsburgh\, PA\, 15222\, United States
CATEGORIES:Improv
ATTACH;FMTTYPE=image/jpeg:https://www.arcadecomedytheater.com/wp-content/uploads/2023/08/370469734_820500166470475_349060419854776735_n.jpg
ORGANIZER;CN="Irony City":MAILTO:chris.gillotti@gmail.com
GEO:40.4434601;-79.9964753
X-APPLE-STRUCTURED-LOCATION;VALUE=URI;X-ADDRESS=Arcade Comedy Theater 943 Liberty Ave. Pittsburgh PA 15222 United States;X-APPLE-RADIUS=500;X-TITLE=943 Liberty Ave.:geo:-79.9964753,40.4434601
END:VEVENT
BEGIN:VEVENT
DTSTART;TZID=America/New_York:20230805T200000
DTEND;TZID=America/New_York:20230805T213000
DTSTAMP:20260424T171548
CREATED:20230720T024524Z
LAST-MODIFIED:20230720T024527Z
UID:10000089-1691265600-1691271000@www.arcadecomedytheater.com
SUMMARY:Irony City: Am I the Jagoff?
DESCRIPTION:We’ve all been there. Maybe you disrupted a wedding that didn’t have a cookie table\, asked for fries on your salad at a fancy restaurant (what were you doing there anyway?)\, or heaven forbid\, moved a parking chair. You probably asked yourself at some point\, “Am I the Jagoff?”\nVeteran improv troupe Irony City will help answer those questions! Sort of. Each month a local comedian will tell us about a time where they MIGHT have been a jagoff. That story will inspire improvised scenes by Irony City\, and at the end\, we’ll all know\, were they the jagoff or not?\n			\n				Get Tickets
URL:https://www.arcadecomedytheater.com/event/irony-city-2308/
LOCATION:Arcade Comedy Theater\, 943 Liberty Ave.\, Pittsburgh\, PA\, 15222\, United States
CATEGORIES:Improv
ATTACH;FMTTYPE=image/png:https://www.arcadecomedytheater.com/wp-content/uploads/2022/04/IronyCity.png
ORGANIZER;CN="Irony City":MAILTO:chris.gillotti@gmail.com
GEO:40.4434601;-79.9964753
X-APPLE-STRUCTURED-LOCATION;VALUE=URI;X-ADDRESS=Arcade Comedy Theater 943 Liberty Ave. Pittsburgh PA 15222 United States;X-APPLE-RADIUS=500;X-TITLE=943 Liberty Ave.:geo:-79.9964753,40.4434601
END:VEVENT
BEGIN:VEVENT
DTSTART;TZID=America/New_York:20230701T200000
DTEND;TZID=America/New_York:20230701T200000
DTSTAMP:20260424T171548
CREATED:20230530T205043Z
LAST-MODIFIED:20230603T140342Z
UID:10000052-1688241600-1688241600@www.arcadecomedytheater.com
SUMMARY:Irony City: Am I the Jagoff?
DESCRIPTION:
URL:https://www.arcadecomedytheater.com/event/irony-city-2307/
LOCATION:Arcade Comedy Theater\, 943 Liberty Ave.\, Pittsburgh\, PA\, 15222\, United States
CATEGORIES:Improv
GEO:40.4434601;-79.9964753
X-APPLE-STRUCTURED-LOCATION;VALUE=URI;X-ADDRESS=Arcade Comedy Theater 943 Liberty Ave. Pittsburgh PA 15222 United States;X-APPLE-RADIUS=500;X-TITLE=943 Liberty Ave.:geo:-79.9964753,40.4434601
END:VEVENT
BEGIN:VEVENT
DTSTART;TZID=America/New_York:20230603T200000
DTEND;TZID=America/New_York:20230603T200000
DTSTAMP:20260424T171548
CREATED:20230530T204656Z
LAST-MODIFIED:20230603T140544Z
UID:10000025-1685822400-1685822400@www.arcadecomedytheater.com
SUMMARY:Irony City: Am I the Jagoff?
DESCRIPTION:
URL:https://www.arcadecomedytheater.com/event/irony-city-2306/
LOCATION:Arcade Comedy Theater\, 943 Liberty Ave.\, Pittsburgh\, PA\, 15222\, United States
CATEGORIES:Improv
ORGANIZER;CN="Irony City":MAILTO:chris.gillotti@gmail.com
GEO:40.4434601;-79.9964753
X-APPLE-STRUCTURED-LOCATION;VALUE=URI;X-ADDRESS=Arcade Comedy Theater 943 Liberty Ave. Pittsburgh PA 15222 United States;X-APPLE-RADIUS=500;X-TITLE=943 Liberty Ave.:geo:-79.9964753,40.4434601
END:VEVENT
END:VCALENDAR