BEGIN:VCALENDAR
VERSION:2.0
PRODID:-//Arcade Comedy Theater - ECPv6.15.20//NONSGML v1.0//EN
CALSCALE:GREGORIAN
METHOD:PUBLISH
X-WR-CALNAME:Arcade Comedy Theater
X-ORIGINAL-URL:https://www.arcadecomedytheater.com
X-WR-CALDESC:Events for Arcade Comedy Theater
REFRESH-INTERVAL;VALUE=DURATION:PT1H
X-Robots-Tag:noindex
X-PUBLISHED-TTL:PT1H
BEGIN:VTIMEZONE
TZID:America/New_York
BEGIN:DAYLIGHT
TZOFFSETFROM:-0500
TZOFFSETTO:-0400
TZNAME:EDT
DTSTART:20250309T070000
END:DAYLIGHT
BEGIN:STANDARD
TZOFFSETFROM:-0400
TZOFFSETTO:-0500
TZNAME:EST
DTSTART:20251102T060000
END:STANDARD
BEGIN:DAYLIGHT
TZOFFSETFROM:-0500
TZOFFSETTO:-0400
TZNAME:EDT
DTSTART:20260308T070000
END:DAYLIGHT
BEGIN:STANDARD
TZOFFSETFROM:-0400
TZOFFSETTO:-0500
TZNAME:EST
DTSTART:20261101T060000
END:STANDARD
BEGIN:DAYLIGHT
TZOFFSETFROM:-0500
TZOFFSETTO:-0400
TZNAME:EDT
DTSTART:20270314T070000
END:DAYLIGHT
BEGIN:STANDARD
TZOFFSETFROM:-0400
TZOFFSETTO:-0500
TZNAME:EST
DTSTART:20271107T060000
END:STANDARD
END:VTIMEZONE
BEGIN:VEVENT
DTSTART;TZID=America/New_York:20260602T190000
DTEND;TZID=America/New_York:20260602T190000
DTSTAMP:20260423T140612
CREATED:20260316T163200Z
LAST-MODIFIED:20260316T163243Z
UID:10001318-1780426800-1780426800@www.arcadecomedytheater.com
SUMMARY:Class Show - IMPROV 101
DESCRIPTION:Arcade Academy 2026 Session 3 \nIMPROV 101: Foundations Class Show! \nHosted by class instructor Beth Geatches.
URL:https://www.arcadecomedytheater.com/event/class-show-improv-101-5/
ATTACH;FMTTYPE=image/png:https://www.arcadecomedytheater.com/wp-content/uploads/2026/03/academy_green.png
END:VEVENT
BEGIN:VEVENT
DTSTART;TZID=America/New_York:20260610T190000
DTEND;TZID=America/New_York:20260610T190000
DTSTAMP:20260423T140612
CREATED:20260316T165213Z
LAST-MODIFIED:20260316T165217Z
UID:10001319-1781118000-1781118000@www.arcadecomedytheater.com
SUMMARY:Class Show -ORGANIC IMPROV
DESCRIPTION:Arcade Academy 2026 Session 3 \nORGANIC IMPROV Class Show! \nHosted by class instructor Brian Gray.
URL:https://www.arcadecomedytheater.com/event/class-show-organic-improv/
ATTACH;FMTTYPE=image/png:https://www.arcadecomedytheater.com/wp-content/uploads/2026/03/academy_blue.png
END:VEVENT
BEGIN:VEVENT
DTSTART;TZID=America/New_York:20260612T190000
DTEND;TZID=America/New_York:20260612T190000
DTSTAMP:20260423T140612
CREATED:20260401T152517Z
LAST-MODIFIED:20260401T152523Z
UID:10001328-1781290800-1781290800@www.arcadecomedytheater.com
SUMMARY:Duo Two Ways
DESCRIPTION:Watch veteran improvisers Fred Brown and Scott Pettis perform two very different improv styles. First\, the form known as the “TJ & Dave\,” – patient\, theatrical\, naturalistic. Second\, the “Zumpf” – fast\, bold\, always moving. Whether you’re simply looking for an entertaining show or you’re a dedicated improv nerd\, this show will leave you thinking\, “wow.” Scott was trained in Chicago. Fred was trained in Philadelphia. They met in the spring of 2023. They realized\, “hey we really like performing together.” So they are doing that.
URL:https://www.arcadecomedytheater.com/event/duo-two-ways-14/
ATTACH;FMTTYPE=image/png:https://www.arcadecomedytheater.com/wp-content/uploads/2026/03/duo-two-ways.png
END:VEVENT
BEGIN:VEVENT
DTSTART;TZID=America/New_York:20260622T190000
DTEND;TZID=America/New_York:20260622T190000
DTSTAMP:20260423T140612
CREATED:20260316T165623Z
LAST-MODIFIED:20260316T165627Z
UID:10001320-1782154800-1782154800@www.arcadecomedytheater.com
SUMMARY:Class Show - STAND-UP 101
DESCRIPTION:Arcade Academy 2026 Session 3 \nSTAND-UP 101: Intro to Stand-Up Comedy Class Show! \nHosted by class instructor Brittany Alexis.
URL:https://www.arcadecomedytheater.com/event/class-show-stand-up-101-6/
ATTACH;FMTTYPE=image/png:https://www.arcadecomedytheater.com/wp-content/uploads/2026/03/academy_green.png
END:VEVENT
BEGIN:VEVENT
DTSTART;TZID=America/New_York:20260622T200000
DTEND;TZID=America/New_York:20260622T200000
DTSTAMP:20260423T140612
CREATED:20260316T165549Z
LAST-MODIFIED:20260316T165553Z
UID:10001321-1782158400-1782158400@www.arcadecomedytheater.com
SUMMARY:Class Show - IMPROV 102 (Monday)
DESCRIPTION:Arcade Academy 2026 Session 3 \nIMPROV 102: Scenework (Monday) Class Show! \nHosted by class instructor Tyler Ray Kendrick.
URL:https://www.arcadecomedytheater.com/event/class-show-improv-102-monday/
ATTACH;FMTTYPE=image/png:https://www.arcadecomedytheater.com/wp-content/uploads/2026/03/academy_orange.png
END:VEVENT
BEGIN:VEVENT
DTSTART;TZID=America/New_York:20260623T200000
DTEND;TZID=America/New_York:20260623T200000
DTSTAMP:20260423T140612
CREATED:20260316T165515Z
LAST-MODIFIED:20260316T165519Z
UID:10001322-1782244800-1782244800@www.arcadecomedytheater.com
SUMMARY:Class Show - ACCENTS + DIALECTS (UK)
DESCRIPTION:Arcade Academy 2026 Session 3 \nACCENTS + DIALECTS (UK) Class Show! \nHosted by class instructors Cynthia Dallas and Michael McBurney.
URL:https://www.arcadecomedytheater.com/event/class-show-accents-dialects-uk/
ATTACH;FMTTYPE=image/png:https://www.arcadecomedytheater.com/wp-content/uploads/2026/03/academy_purp.png
END:VEVENT
BEGIN:VEVENT
DTSTART;TZID=America/New_York:20260624T200000
DTEND;TZID=America/New_York:20260624T200000
DTSTAMP:20260423T140612
CREATED:20260316T165440Z
LAST-MODIFIED:20260316T165444Z
UID:10001323-1782331200-1782331200@www.arcadecomedytheater.com
SUMMARY:Class Show - ADVANCED CHARACTER WORK
DESCRIPTION:Arcade Academy 2026 Session 3 \nADVANCED CHARACTER WORK Class Show! \nHosted by class instructor Sara Kantner.
URL:https://www.arcadecomedytheater.com/event/class-show-advanced-character-work/
ATTACH;FMTTYPE=image/jpeg:https://www.arcadecomedytheater.com/wp-content/uploads/2026/03/academy_yellow.jpeg
END:VEVENT
BEGIN:VEVENT
DTSTART;TZID=America/New_York:20260627T120000
DTEND;TZID=America/New_York:20260627T120000
DTSTAMP:20260423T140612
CREATED:20260401T153344Z
LAST-MODIFIED:20260401T153349Z
UID:10001324-1782561600-1782561600@www.arcadecomedytheater.com
SUMMARY:Class Show - IMPROV 102 (Saturday)
DESCRIPTION:Arcade Academy 2026 Session 3 \nIMPROV 102: Scenework (Saturday) Class Show! \nHosted by class instructor Alyssa Tomasella.
URL:https://www.arcadecomedytheater.com/event/class-show-improv-102-saturday/
ATTACH;FMTTYPE=image/png:https://www.arcadecomedytheater.com/wp-content/uploads/2026/03/academy_blue.png
END:VEVENT
END:VCALENDAR