BEGIN:VCALENDAR
VERSION:2.0
PRODID:-//Arcade Comedy Theater - ECPv6.15.20//NONSGML v1.0//EN
CALSCALE:GREGORIAN
METHOD:PUBLISH
X-ORIGINAL-URL:https://www.arcadecomedytheater.com
X-WR-CALDESC:Events for Arcade Comedy Theater
REFRESH-INTERVAL;VALUE=DURATION:PT1H
X-Robots-Tag:noindex
X-PUBLISHED-TTL:PT1H
BEGIN:VTIMEZONE
TZID:America/New_York
BEGIN:DAYLIGHT
TZOFFSETFROM:-0500
TZOFFSETTO:-0400
TZNAME:EDT
DTSTART:20250309T070000
END:DAYLIGHT
BEGIN:STANDARD
TZOFFSETFROM:-0400
TZOFFSETTO:-0500
TZNAME:EST
DTSTART:20251102T060000
END:STANDARD
BEGIN:DAYLIGHT
TZOFFSETFROM:-0500
TZOFFSETTO:-0400
TZNAME:EDT
DTSTART:20260308T070000
END:DAYLIGHT
BEGIN:STANDARD
TZOFFSETFROM:-0400
TZOFFSETTO:-0500
TZNAME:EST
DTSTART:20261101T060000
END:STANDARD
BEGIN:DAYLIGHT
TZOFFSETFROM:-0500
TZOFFSETTO:-0400
TZNAME:EDT
DTSTART:20270314T070000
END:DAYLIGHT
BEGIN:STANDARD
TZOFFSETFROM:-0400
TZOFFSETTO:-0500
TZNAME:EST
DTSTART:20271107T060000
END:STANDARD
END:VTIMEZONE
BEGIN:VEVENT
DTSTART;TZID=America/New_York:20260103T200000
DTEND;TZID=America/New_York:20260103T200000
DTSTAMP:20260423T140945
CREATED:20251212T111049Z
LAST-MODIFIED:20260104T004740Z
UID:10001192-1767470400-1767470400@www.arcadecomedytheater.com
SUMMARY:Irony City: Am I The Jagoff?
DESCRIPTION:Join veteran comedy troupe Irony City as they deftly navigate social missteps on the first Saturday of each month. We’ve all been there: acted out at a wedding when there was no cookie table\, ordered fries on a salad at a fancy restaurant\, or dared to move a parking chair – afterward wondering\, “Am I the Jagoff?” \nEach show\, the audience shares stories about some real Jagoff moments\, sparking hilarious improvised scenes from Irony City. \nRuntime: 75 minutes \nTickets $15 / $10 college students\nAges 16 & up\nBYOB 21+
URL:https://www.arcadecomedytheater.com/event/irony-city-am-i-the-jagoff-15/
ATTACH;FMTTYPE=image/jpeg:https://www.arcadecomedytheater.com/wp-content/uploads/2025/08/irony-city-am-i-the-jagoff-1.jpg
END:VEVENT
END:VCALENDAR