BEGIN:VCALENDAR
VERSION:2.0
PRODID:-//Arcade Comedy Theater - ECPv6.15.20//NONSGML v1.0//EN
CALSCALE:GREGORIAN
METHOD:PUBLISH
X-ORIGINAL-URL:https://www.arcadecomedytheater.com
X-WR-CALDESC:Events for Arcade Comedy Theater
REFRESH-INTERVAL;VALUE=DURATION:PT1H
X-Robots-Tag:noindex
X-PUBLISHED-TTL:PT1H
BEGIN:VTIMEZONE
TZID:America/New_York
BEGIN:DAYLIGHT
TZOFFSETFROM:-0500
TZOFFSETTO:-0400
TZNAME:EDT
DTSTART:20230312T070000
END:DAYLIGHT
BEGIN:STANDARD
TZOFFSETFROM:-0400
TZOFFSETTO:-0500
TZNAME:EST
DTSTART:20231105T060000
END:STANDARD
BEGIN:DAYLIGHT
TZOFFSETFROM:-0500
TZOFFSETTO:-0400
TZNAME:EDT
DTSTART:20240310T070000
END:DAYLIGHT
BEGIN:STANDARD
TZOFFSETFROM:-0400
TZOFFSETTO:-0500
TZNAME:EST
DTSTART:20241103T060000
END:STANDARD
BEGIN:DAYLIGHT
TZOFFSETFROM:-0500
TZOFFSETTO:-0400
TZNAME:EDT
DTSTART:20250309T070000
END:DAYLIGHT
BEGIN:STANDARD
TZOFFSETFROM:-0400
TZOFFSETTO:-0500
TZNAME:EST
DTSTART:20251102T060000
END:STANDARD
END:VTIMEZONE
BEGIN:VEVENT
DTSTART;TZID=America/New_York:20241005T200000
DTEND;TZID=America/New_York:20241005T200000
DTSTAMP:20260424T130747
CREATED:20240911T000054Z
LAST-MODIFIED:20241003T135615Z
UID:10000542-1728158400-1728158400@www.arcadecomedytheater.com
SUMMARY:Irony City
DESCRIPTION:Join veteran comedy troupe Irony City as they deftly navigate social missteps on the first Saturday each month.We’ve all been there: acted out at a wedding when there was no cookie table\, ordered fries on a salad at a fancy restaurant\, or dared to move a parking chair – afterwards wondering\, “Am I the Jagoff?”Each show\, a local storyteller confesses a potential jagoff moment\, sparking hilarious improvised scenes from Irony City. In the end\, YOU will judge: were they the jagoff?This popular monthly show features an opening set by BIPOCALYPSE: improv from the global majority. \n			\n				Get Tickets
URL:https://www.arcadecomedytheater.com/event/irony-city/
LOCATION:Arcade Comedy Theater\, 943 Liberty Ave.\, Pittsburgh\, PA\, 15222\, United States
CATEGORIES:Improv
ATTACH;FMTTYPE=image/jpeg:https://www.arcadecomedytheater.com/wp-content/uploads/2024/09/2024-10-05-Newsletter.jpg
ORGANIZER;CN="Arcade Comedy Theater":MAILTO:info@arcadecomedytheater.com
GEO:40.4434601;-79.9964753
X-APPLE-STRUCTURED-LOCATION;VALUE=URI;X-ADDRESS=Arcade Comedy Theater 943 Liberty Ave. Pittsburgh PA 15222 United States;X-APPLE-RADIUS=500;X-TITLE=943 Liberty Ave.:geo:-79.9964753,40.4434601
END:VEVENT
END:VCALENDAR