BEGIN:VCALENDAR
VERSION:2.0
PRODID:-//Arcade Comedy Theater - ECPv6.15.20//NONSGML v1.0//EN
CALSCALE:GREGORIAN
METHOD:PUBLISH
X-WR-CALNAME:Arcade Comedy Theater
X-ORIGINAL-URL:https://www.arcadecomedytheater.com
X-WR-CALDESC:Events for Arcade Comedy Theater
REFRESH-INTERVAL;VALUE=DURATION:PT1H
X-Robots-Tag:noindex
X-PUBLISHED-TTL:PT1H
BEGIN:VTIMEZONE
TZID:America/New_York
BEGIN:DAYLIGHT
TZOFFSETFROM:-0500
TZOFFSETTO:-0400
TZNAME:EDT
DTSTART:20250309T070000
END:DAYLIGHT
BEGIN:STANDARD
TZOFFSETFROM:-0400
TZOFFSETTO:-0500
TZNAME:EST
DTSTART:20251102T060000
END:STANDARD
BEGIN:DAYLIGHT
TZOFFSETFROM:-0500
TZOFFSETTO:-0400
TZNAME:EDT
DTSTART:20260308T070000
END:DAYLIGHT
BEGIN:STANDARD
TZOFFSETFROM:-0400
TZOFFSETTO:-0500
TZNAME:EST
DTSTART:20261101T060000
END:STANDARD
BEGIN:DAYLIGHT
TZOFFSETFROM:-0500
TZOFFSETTO:-0400
TZNAME:EDT
DTSTART:20270314T070000
END:DAYLIGHT
BEGIN:STANDARD
TZOFFSETFROM:-0400
TZOFFSETTO:-0500
TZNAME:EST
DTSTART:20271107T060000
END:STANDARD
END:VTIMEZONE
BEGIN:VEVENT
DTSTART;TZID=America/New_York:20260214T200000
DTEND;TZID=America/New_York:20260214T200000
DTSTAMP:20260421T083639
CREATED:20251231T123717Z
LAST-MODIFIED:20260114T164714Z
UID:10001220-1771099200-1771099200@www.arcadecomedytheater.com
SUMMARY:CoWorkers
DESCRIPTION:Co-Workers! Is a long form narrative show made up of a combination of short form and long form improv\, creating the best type of entertainment…middle management comedy!
URL:https://www.arcadecomedytheater.com/event/coworkers-10/
LOCATION:PA
ATTACH;FMTTYPE=image/jpeg:https://www.arcadecomedytheater.com/wp-content/uploads/2025/11/IMG_4156.jpeg
END:VEVENT
BEGIN:VEVENT
DTSTART;TZID=America/New_York:20260214T210000
DTEND;TZID=America/New_York:20260214T210000
DTSTAMP:20260421T083639
CREATED:20251231T124925Z
LAST-MODIFIED:20260114T164711Z
UID:10001222-1771102800-1771102800@www.arcadecomedytheater.com
SUMMARY:Comedy Confidential with Brittany Alexis
DESCRIPTION:Arcade Comedy Theater presents Comedy Confidential\, a showcase of Pittsburgh’s brightest comedic talents! \nBrittany Alexis brings some of her funniest few friends to the stage for an entertaining night of stand-up. This show promises a lineup of hilarious performances that will keep you laughing long after the show ends. Whether you’re a lifelong comedy fan or just looking for a fun night out\, Comedy Confidential is the perfect escape into the world of humor. Come for an unforgettable evening filled with surprises\, camaraderie\, and\, of course\, a whole lot of laughter!
URL:https://www.arcadecomedytheater.com/event/comedy-confidential-with-brittany-alexis-10/
LOCATION:PA
ATTACH;FMTTYPE=image/png:https://www.arcadecomedytheater.com/wp-content/uploads/2025/01/Comedy-Confidential.png
END:VEVENT
BEGIN:VEVENT
DTSTART;TZID=America/New_York:20260219T190000
DTEND;TZID=America/New_York:20260219T190000
DTSTAMP:20260421T083639
CREATED:20251123T212105Z
LAST-MODIFIED:20260114T164735Z
UID:10001158-1771527600-1771527600@www.arcadecomedytheater.com
SUMMARY:House Team Hot Spot
DESCRIPTION:A Trio of Home-Grown Improv Teams \nArcade Comedy Theater presents the House Team Hot Spot — a show featuring a rotating set of our very own improv comedy teams. Each performance features house teams jumping into the hot spot and bringing their unique brand of comedy. See lively short-form games with plenty of opportunities for the audience to get involved; kick back and watch a dynamic long-form improv set unfold based on a single suggestion. All of it adds up to a unique night of live comedy that burns bright for 75 minutes! \nRuntime: 75 minutes \nTickets $15 / $10 college students\nAges 16 & up\nBYOB 21+
URL:https://www.arcadecomedytheater.com/event/house-team-hot-spot-53/
LOCATION:PA
ATTACH;FMTTYPE=image/png:https://www.arcadecomedytheater.com/wp-content/uploads/2025/08/HotSpot-2025Fall.png
END:VEVENT
BEGIN:VEVENT
DTSTART;TZID=America/New_York:20260219T210000
DTEND;TZID=America/New_York:20260219T210000
DTSTAMP:20260421T083639
CREATED:20251230T010708Z
LAST-MODIFIED:20260210T191524Z
UID:10001204-1771534800-1771534800@www.arcadecomedytheater.com
SUMMARY:Got Rights?
DESCRIPTION:Arcade Comedy Theater presents Got Rights? – a monthly comedy open mic that celebrates and centers comedy from queer individuals\, women\, and femmes! Join us in our black box theater upstairs Thursday\, January 16\, at 9pm and witness some of Pittsburgh’s most talented and available comics work through their material. An open mic is not a show. It is practice\, a place to try new jokes\, adjust old ones\, and\, most importantly\, take risks and make mistakes. Whether it’s good\, bad\, funny\, or crass\, YOU decide if you want to laugh. Got Rights? is the mic to support and enjoy the incredible talent from our vibrant comedy community. Bring your friends\, your laughter\, and your keen comedy judgment for a night of fresh perspectives and bold humor.
URL:https://www.arcadecomedytheater.com/event/got-rights-14/
LOCATION:PA
ATTACH;FMTTYPE=image/jpeg:https://www.arcadecomedytheater.com/wp-content/uploads/2025/01/gotrightsIG.jpeg
END:VEVENT
BEGIN:VEVENT
DTSTART;TZID=America/New_York:20260220T190000
DTEND;TZID=America/New_York:20260220T190000
DTSTAMP:20260421T083639
CREATED:20251123T214343Z
LAST-MODIFIED:20251223T221438Z
UID:10001179-1771614000-1771614000@www.arcadecomedytheater.com
SUMMARY:House Team Spotlight – The Allegheny Story Society
DESCRIPTION:A Spotlight on Home-Grown Improv Teams \nArcade Comedy Theater presents the House Team Spotlight — a show featuring a rotating set of our very own improv comedy teams. Each performance features an advanced-level house team jumping into the spotlight and bringing their unique brand of comedy. Some weeks\, you will see lively short-form games with plenty of opportunities for the audience to get involved. Some weeks\, you can kick back and watch a dynamic long-form improv set unfold based on a single suggestion. All of it adds up to a unique night of live comedy that burns bright for 75 minutes! \nRuntime: 75 minutes \nTickets $15 / $10 college students\nAges 16 & up\nBYOB 21+
URL:https://www.arcadecomedytheater.com/event/house-team-spotlight-24/
LOCATION:PA
ATTACH;FMTTYPE=image/png:https://www.arcadecomedytheater.com/wp-content/uploads/2025/08/Spotlight-2025Fall.png
END:VEVENT
BEGIN:VEVENT
DTSTART;TZID=America/New_York:20260220T210000
DTEND;TZID=America/New_York:20260220T210000
DTSTAMP:20260421T083639
CREATED:20260211T223229Z
LAST-MODIFIED:20260219T185637Z
UID:10001275-1771621200-1771621200@www.arcadecomedytheater.com
SUMMARY:Duo Two Ways
DESCRIPTION:Two performers\, two improvised sets\, one hour; a daring feat of strength and stamina. Watch veteran improvisers Fred Brown and Scott Pettis perform two very different improv styles back-to-back. First\, the form known as the “TJ & Dave\,” – patient\, theatrical\, naturalistic. Second\, the “Zumpf” – fast\, bold\, always moving. Whether you\’re simply looking for an entertaining show or you\’re a dedicated improv nerd\, this show will leave you thinking\, “wow.”\n\nScott was trained in Chicago. Fred was trained in Philadelphia. They met in the spring of 2023. They realized\, “hey we really like performing together\,” and have been doing so since.
URL:https://www.arcadecomedytheater.com/event/duo-two-ways-11/
LOCATION:PA
ATTACH;FMTTYPE=image/png:https://www.arcadecomedytheater.com/wp-content/uploads/2026/02/duo-two-ways-1.png
END:VEVENT
BEGIN:VEVENT
DTSTART;TZID=America/New_York:20260221T190000
DTEND;TZID=America/New_York:20260221T190000
DTSTAMP:20260421T083639
CREATED:20251231T125838Z
LAST-MODIFIED:20260214T220034Z
UID:10001226-1771700400-1771700400@www.arcadecomedytheater.com
SUMMARY:Under The Radar: Independent Pittsburgh Improv
DESCRIPTION:Support Pittsburgh’s vibrant improv scene at Under the Radar\, a monthly showcase featuring a range of Pittsburgh’s independent improv teams. This month featuring: Strawberry Milkshake\, Rats\, and Fondue for Two!
URL:https://www.arcadecomedytheater.com/event/under-the-radar-independent-pittsburgh-improv-12/
LOCATION:PA
ATTACH;FMTTYPE=image/png:https://www.arcadecomedytheater.com/wp-content/uploads/2025/04/Copy-of-Under-The-Radar-Logo.png
END:VEVENT
BEGIN:VEVENT
DTSTART;TZID=America/New_York:20260221T200000
DTEND;TZID=America/New_York:20260221T200000
DTSTAMP:20260421T083639
CREATED:20260111T155532Z
LAST-MODIFIED:20260114T164705Z
UID:10001235-1771704000-1771704000@www.arcadecomedytheater.com
SUMMARY:Arcade Hootenanny
DESCRIPTION:The Arcade Hootenanny is styled after the classic Chicago-style improv show featuring monologist-inspired scenes. A storyteller tells real-life tales and improvisers present a fast & funny set inspired by elements from the story. Featuring special guest
URL:https://www.arcadecomedytheater.com/event/arcade-hootenanny-14/
LOCATION:PA
ATTACH;FMTTYPE=image/jpeg:https://www.arcadecomedytheater.com/wp-content/uploads/2023/03/Hootenanny-Generic.jpg
END:VEVENT
BEGIN:VEVENT
DTSTART;TZID=America/New_York:20260223T190000
DTEND;TZID=America/New_York:20260223T190000
DTSTAMP:20260421T083639
CREATED:20251231T121939Z
LAST-MODIFIED:20251231T121942Z
UID:10001210-1771873200-1771873200@www.arcadecomedytheater.com
SUMMARY:Class Show - STAND-UP 101 (Monday)
DESCRIPTION:Come see Arcade’s newest comedians take the stage to show what they learned in their STAND-UP 101: Intro to Stand-Up Comedy class! Hosted by class instructor Brittany Alexis.  
URL:https://www.arcadecomedytheater.com/event/class-show-stand-up-101-monday/
LOCATION:PA
ATTACH;FMTTYPE=image/jpeg:https://www.arcadecomedytheater.com/wp-content/uploads/2014/05/Academy_sq1.jpg
END:VEVENT
BEGIN:VEVENT
DTSTART;TZID=America/New_York:20260224T190000
DTEND;TZID=America/New_York:20260224T190000
DTSTAMP:20260421T083639
CREATED:20251231T122435Z
LAST-MODIFIED:20251231T122439Z
UID:10001212-1771959600-1771959600@www.arcadecomedytheater.com
SUMMARY:Class Show -IMPROV 201
DESCRIPTION:Come see Arcade’s rising stars take the stage to show what they have learned in their IMPROV 201: Short Form Technique class! Hosted by class instructor Matt Solter.
URL:https://www.arcadecomedytheater.com/event/class-show-improv-201-3/
LOCATION:PA
ATTACH;FMTTYPE=image/jpeg:https://www.arcadecomedytheater.com/wp-content/uploads/2014/05/Academy_sq1.jpg
END:VEVENT
BEGIN:VEVENT
DTSTART;TZID=America/New_York:20260224T210000
DTEND;TZID=America/New_York:20260224T210000
DTSTAMP:20260421T083639
CREATED:20251231T122519Z
LAST-MODIFIED:20251231T122522Z
UID:10001213-1771966800-1771966800@www.arcadecomedytheater.com
SUMMARY:Class Show - IMPROV DUOS
DESCRIPTION:Come see what Arcade’s newest improv comedy duos have been working on for the past eight weeks in their class show\, hosted by IMPROV DUOS instructor Scott Pettis!
URL:https://www.arcadecomedytheater.com/event/class-show-improv-duos/
LOCATION:PA
ATTACH;FMTTYPE=image/jpeg:https://www.arcadecomedytheater.com/wp-content/uploads/2014/05/Academy_sq.jpg
END:VEVENT
BEGIN:VEVENT
DTSTART;TZID=America/New_York:20260225T190000
DTEND;TZID=America/New_York:20260225T190000
DTSTAMP:20260421T083639
CREATED:20251231T122607Z
LAST-MODIFIED:20251231T122611Z
UID:10001214-1772046000-1772046000@www.arcadecomedytheater.com
SUMMARY:Class Show - IMPROV 102
DESCRIPTION:Come see Arcade newsest stars take the stage and show what they learned in their IMPROV 102: Scenework class! Hosted by class instructor Sara Kantner.  
URL:https://www.arcadecomedytheater.com/event/class-show-improv-102-5/
LOCATION:PA
ATTACH;FMTTYPE=image/jpeg:https://www.arcadecomedytheater.com/wp-content/uploads/2014/05/Academy_sq1.jpg
END:VEVENT
BEGIN:VEVENT
DTSTART;TZID=America/New_York:20260225T200000
DTEND;TZID=America/New_York:20260225T200000
DTSTAMP:20260421T083639
CREATED:20251231T122646Z
LAST-MODIFIED:20251231T122649Z
UID:10001215-1772049600-1772049600@www.arcadecomedytheater.com
SUMMARY:Class Show -IMPROV 401
DESCRIPTION:Come see Arcade’s newest musical comedy stars take the stage to show what they learned in their IMPROV 401: Intro to Musical Improv class! Hosted by class instructors Kevin O”Brien and Scott Hughes.  
URL:https://www.arcadecomedytheater.com/event/class-show-improv-401-2/
LOCATION:PA
ATTACH;FMTTYPE=image/jpeg:https://www.arcadecomedytheater.com/wp-content/uploads/2014/05/Academy_sq1.jpg
END:VEVENT
BEGIN:VEVENT
DTSTART;TZID=America/New_York:20260226T190000
DTEND;TZID=America/New_York:20260226T190000
DTSTAMP:20260421T083639
CREATED:20251123T214049Z
LAST-MODIFIED:20260114T164727Z
UID:10001174-1772132400-1772132400@www.arcadecomedytheater.com
SUMMARY:House Team Hot Spot
DESCRIPTION:A Trio of Home-Grown Improv Teams \nArcade Comedy Theater presents the House Team Hot Spot — a show featuring a rotating set of our very own improv comedy teams. Each performance features house teams jumping into the hot spot and bringing their unique brand of comedy. See lively short-form games with plenty of opportunities for the audience to get involved; kick back and watch a dynamic long-form improv set unfold based on a single suggestion. All of it adds up to a unique night of live comedy that burns bright for 75 minutes! \nRuntime: 75 minutes \nTickets $15 / $10 college students\nAges 16 & up\nBYOB 21+
URL:https://www.arcadecomedytheater.com/event/house-team-hot-spot-60/
LOCATION:PA
ATTACH;FMTTYPE=image/png:https://www.arcadecomedytheater.com/wp-content/uploads/2025/08/HotSpot-2025Fall.png
END:VEVENT
BEGIN:VEVENT
DTSTART;TZID=America/New_York:20260226T190000
DTEND;TZID=America/New_York:20260226T190000
DTSTAMP:20260421T083639
CREATED:20251231T122726Z
LAST-MODIFIED:20260221T152237Z
UID:10001216-1772132400-1772132400@www.arcadecomedytheater.com
SUMMARY:Class Show -STAND-UP 101 (Thursday)
DESCRIPTION:Come see Arcade’s newest comedians take the stage to show what they learned in their STAND-UP 101: Intro to Stand-Up Comedy class! Hosted by class instructor Matty Malloy.  
URL:https://www.arcadecomedytheater.com/event/class-show-stand-up-101-thursday/
LOCATION:PA
ATTACH;FMTTYPE=image/jpeg:https://www.arcadecomedytheater.com/wp-content/uploads/2014/05/Academy_sq.jpg
END:VEVENT
BEGIN:VEVENT
DTSTART;TZID=America/New_York:20260227T190000
DTEND;TZID=America/New_York:20260227T190000
DTSTAMP:20260421T083639
CREATED:20251123T214507Z
LAST-MODIFIED:20251223T221816Z
UID:10001180-1772218800-1772218800@www.arcadecomedytheater.com
SUMMARY:House Team Spotlight – Danger Stage
DESCRIPTION:Arcade Comedy Theater presents Danger Stage\, one of the 2025 House Team Spotlights.Composed of ten veteran improvisers and instructors\, Danger Stage established their zany brand of short-form improvised comedy (think Whose Line Is It Anyway?) as a 2024 house team\, and are elated to present their own show. \nDuring the show\, expect to shape what you see with lots of suggestions\, see your own life inspire new comedy\, and even get the chance to be in the spotlight! Every show concludes with the Danger Zone\, incorporating ideas throughout the show into a final fever dream where not even the improvisers know what’s going to happen next! \nRuntime: 75 minutes \nTickets $15 / $10 college studentsAges 16 & upBYOB 21+
URL:https://www.arcadecomedytheater.com/event/house-team-spotlight-25/
LOCATION:PA
ATTACH;FMTTYPE=image/png:https://www.arcadecomedytheater.com/wp-content/uploads/2025/11/DangerStage-Evergreen-2025-2026.png
END:VEVENT
BEGIN:VEVENT
DTSTART;TZID=America/New_York:20260227T210000
DTEND;TZID=America/New_York:20260227T210000
DTSTAMP:20260421T083639
CREATED:20260107T131704Z
LAST-MODIFIED:20260127T232857Z
UID:10001228-1772226000-1772226000@www.arcadecomedytheater.com
SUMMARY:Select Start Improv Show
DESCRIPTION:Come celebrate sweets and nostalgia with us as Select Start travels the multi-colored path and plays Candyland! \nWe’ll traverse through the Peppermint Forest\, Lollipop Palace but will we get stuck in Licorice Forest?! Your suggestions can help us evade sticky situations and win the game! \n\n\n\n\n\n\n\nIndulge in some short form improv and come on down to Arcade Comedy Theater\, February 27th at 9pm for a sweet treat and comedic adventure!
URL:https://www.arcadecomedytheater.com/event/select-start-improv-show-13/
LOCATION:PA
ATTACH;FMTTYPE=image/png:https://www.arcadecomedytheater.com/wp-content/uploads/2026/01/IMG_5087.png
END:VEVENT
BEGIN:VEVENT
DTSTART;TZID=America/New_York:20260228T120000
DTEND;TZID=America/New_York:20260228T120000
DTSTAMP:20260421T083640
CREATED:20251231T122843Z
LAST-MODIFIED:20260227T134601Z
UID:10001217-1772280000-1772280000@www.arcadecomedytheater.com
SUMMARY:Class Show -IMPROV 101 (Saturday)
DESCRIPTION:Come see Arcade newsest stars take the stage and show what they learned in their IMPROV 101: Foundations class! Hosted by class instructor Beth Geatches.  
URL:https://www.arcadecomedytheater.com/event/class-show-improv-101-saturday/
LOCATION:PA
END:VEVENT
BEGIN:VEVENT
DTSTART;TZID=America/New_York:20260228T180000
DTEND;TZID=America/New_York:20260228T180000
DTSTAMP:20260421T083640
CREATED:20251230T010930Z
LAST-MODIFIED:20260114T164715Z
UID:10001205-1772301600-1772301600@www.arcadecomedytheater.com
SUMMARY:Beta Stage
DESCRIPTION:Support emerging talent and join us for Beta Stage\, a monthly showcase of fresh comedy! Experience the excitement of being a part of the creative process as we provide a platform for producers to present and refine new ideas in front of a live audience. New concepts get the opportunity to be workshopped live\, allowing for real-time feedback and audience interaction. This show is a part of Arcade’s incubator series\, which is all about experimentation\, trying new things\, and elevating the art of comedy. This monthly showcase is the place to see tomorrow’s comedy today!
URL:https://www.arcadecomedytheater.com/event/beta-stage-18/
LOCATION:PA
ATTACH;FMTTYPE=image/jpeg:https://www.arcadecomedytheater.com/wp-content/uploads/2024/08/BETALOGO3.jpeg
END:VEVENT
BEGIN:VEVENT
DTSTART;TZID=America/New_York:20260228T200000
DTEND;TZID=America/New_York:20260228T200000
DTSTAMP:20260421T083640
CREATED:20260211T224541Z
LAST-MODIFIED:20260211T224545Z
UID:10001277-1772308800-1772308800@www.arcadecomedytheater.com
SUMMARY:Close Encounters with well Known Strangers
DESCRIPTION:Experienced improvisers Well Known Strangers get a suggestion from the audience to inspire laugh-out-loud stories and characters. Don’t miss this night of clever and absurd scenes by this fun-loving team of goofs.
URL:https://www.arcadecomedytheater.com/event/close-encounters-with-well-known-strangers/
LOCATION:PA
ATTACH;FMTTYPE=image/jpeg:https://www.arcadecomedytheater.com/wp-content/uploads/2026/01/well-known-strangers.jpg
END:VEVENT
BEGIN:VEVENT
DTSTART;TZID=America/New_York:20260228T210000
DTEND;TZID=America/New_York:20260228T210000
DTSTAMP:20260421T083640
CREATED:20251230T012220Z
LAST-MODIFIED:20251230T012225Z
UID:10001206-1772312400-1772312400@www.arcadecomedytheater.com
SUMMARY:Knights of the Arcade: Epic D&D Adventure
DESCRIPTION:Join Knights of the Arcade for another hilarious D&D comedy adventure! One of Pittsburgh’s longest running and best-selling comedy shows! A recurring cast of characters are joined by special guests and led by their maniacal dungeon master. Where they’re going\, who they fight\, and if they ultimately succeed is decided upon live dice that are rolled and projected on the theater wall.
URL:https://www.arcadecomedytheater.com/event/knights-of-the-arcade-epic-dd-adventure-19/
LOCATION:PA
ATTACH;FMTTYPE=image/jpeg:https://www.arcadecomedytheater.com/wp-content/uploads/2021/10/KotA-Circle-Logo_800x.jpg
END:VEVENT
BEGIN:VEVENT
DTSTART;TZID=America/New_York:20260301T193000
DTEND;TZID=America/New_York:20260301T193000
DTSTAMP:20260421T083640
CREATED:20260121T223350Z
LAST-MODIFIED:20260121T223350Z
UID:10001237-1772393400-1772393400@www.arcadecomedytheater.com
SUMMARY:Your ACT
DESCRIPTION:Tonight\, the A.C.T. stage is yours! Bring your improv teams\, sketch group\, or stand-up act for an open mic-style show where the lineup is created on the spot. A perfect opportunity for artists to try something new in a short set and for audiences to see some experimental and cutting edge comedy. \nThe evening is guided by Nonsense!
URL:https://www.arcadecomedytheater.com/event/your-act-7/
LOCATION:PA
ATTACH;FMTTYPE=image/jpeg:https://www.arcadecomedytheater.com/wp-content/uploads/2026/01/your-act.jpg
END:VEVENT
BEGIN:VEVENT
DTSTART;TZID=America/New_York:20260302T190000
DTEND;TZID=America/New_York:20260302T190000
DTSTAMP:20260421T083640
CREATED:20251231T122035Z
LAST-MODIFIED:20260227T134640Z
UID:10001211-1772478000-1772478000@www.arcadecomedytheater.com
SUMMARY:Class Show -IMPROV 101 (Monday)
DESCRIPTION:Come see Arcade newsest stars take the stage and show what they learned in their IMPROV 101: Foundations class! Hosted by class instructor Alyssa Tomasella.  
URL:https://www.arcadecomedytheater.com/event/class-show-improv-101-monday/
LOCATION:PA
END:VEVENT
BEGIN:VEVENT
DTSTART;TZID=America/New_York:20260305T190000
DTEND;TZID=America/New_York:20260305T190000
DTSTAMP:20260421T083640
CREATED:20251123T214152Z
LAST-MODIFIED:20260114T164725Z
UID:10001175-1772737200-1772737200@www.arcadecomedytheater.com
SUMMARY:House Team Hot Spot
DESCRIPTION:A Trio of Home-Grown Improv Teams \nArcade Comedy Theater presents the House Team Hot Spot — a show featuring a rotating set of our very own improv comedy teams. Each performance features house teams jumping into the hot spot and bringing their unique brand of comedy. See lively short-form games with plenty of opportunities for the audience to get involved; kick back and watch a dynamic long-form improv set unfold based on a single suggestion. All of it adds up to a unique night of live comedy that burns bright for 75 minutes! \nRuntime: 75 minutes \nTickets $15 / $10 college students\nAges 16 & up\nBYOB 21+
URL:https://www.arcadecomedytheater.com/event/house-team-hot-spot-62/
LOCATION:PA
ATTACH;FMTTYPE=image/png:https://www.arcadecomedytheater.com/wp-content/uploads/2025/08/HotSpot-2025Fall.png
END:VEVENT
BEGIN:VEVENT
DTSTART;TZID=America/New_York:20260306T190000
DTEND;TZID=America/New_York:20260306T190000
DTSTAMP:20260421T083640
CREATED:20260121T230846Z
LAST-MODIFIED:20260121T230851Z
UID:10001250-1772823600-1772823600@www.arcadecomedytheater.com
SUMMARY:House Team Spotlight – The Allegheny Story Society
DESCRIPTION:A Spotlight on Home-Grown Improv Teams \nArcade Comedy Theater presents the House Team Spotlight — a show featuring a rotating set of our very own improv comedy teams. Each performance features an advanced-level house team jumping into the spotlight and bringing their unique brand of comedy. Some weeks\, you will see lively short-form games with plenty of opportunities for the audience to get involved. Some weeks\, you can kick back and watch a dynamic long-form improv set unfold based on a single suggestion. All of it adds up to a unique night of live comedy that burns bright for 75 minutes! \nRuntime: 75 minutes \nTickets $15 / $10 college students\nAges 16 & up\nBYOB 21+
URL:https://www.arcadecomedytheater.com/event/house-team-spotlight-the-allegheny-story-society/
LOCATION:PA
ATTACH;FMTTYPE=image/png:https://www.arcadecomedytheater.com/wp-content/uploads/2026/01/house-team-spotlight.png
END:VEVENT
BEGIN:VEVENT
DTSTART;TZID=America/New_York:20260306T210000
DTEND;TZID=America/New_York:20260306T210000
DTSTAMP:20260421T083640
CREATED:20260121T230300Z
LAST-MODIFIED:20260121T230306Z
UID:10001247-1772830800-1772830800@www.arcadecomedytheater.com
SUMMARY:The Stand-Up Laboratory
DESCRIPTION:The Stand-Up Laboratory is a new incubator space presented by Arcade Comedy Theater. Every month\, the Lab will present a mix of feature comics and a roster of comedians chosen from online submissions. Enjoy a night of comedy highlighting newer material from Pittsburgh’s best comedians and its rising stars.
URL:https://www.arcadecomedytheater.com/event/the-stand-up-laboratory-14/
LOCATION:PA
ATTACH;FMTTYPE=image/jpeg:https://www.arcadecomedytheater.com/wp-content/uploads/2023/02/4f335a45-eaed-4b87-8654-11f05051769f.jpg
END:VEVENT
BEGIN:VEVENT
DTSTART;TZID=America/New_York:20260307T200000
DTEND;TZID=America/New_York:20260307T200000
DTSTAMP:20260421T083640
CREATED:20260121T223421Z
LAST-MODIFIED:20260227T141639Z
UID:10001238-1772913600-1772913600@www.arcadecomedytheater.com
SUMMARY:Irony City: Am I The Jagoff?
DESCRIPTION:Join veteran comedy troupe Irony City as they deftly navigate social missteps on the first Saturday of each month. We’ve all been there: acted out at a wedding when there was no cookie table\, ordered fries on a salad at a fancy restaurant\, or dared to move a parking chair – afterward wondering\, “Am I the Jagoff?” \nEach show\, the audience shares stories about some real Jagoff moments\, sparking hilarious improvised scenes from Irony City. \nRuntime: 75 minutes \nTickets $15 / $10 college students\nAges 16 & up\nBYOB 21+
URL:https://www.arcadecomedytheater.com/event/irony-city-am-i-the-jagoff-17/
LOCATION:PA
ATTACH;FMTTYPE=image/jpeg:https://www.arcadecomedytheater.com/wp-content/uploads/2025/08/irony-city-am-i-the-jagoff.jpg
END:VEVENT
BEGIN:VEVENT
DTSTART;TZID=America/New_York:20260307T210000
DTEND;TZID=America/New_York:20260307T210000
DTSTAMP:20260421T083640
CREATED:20260121T223542Z
LAST-MODIFIED:20260302T010335Z
UID:10001239-1772917200-1772917200@www.arcadecomedytheater.com
SUMMARY:Level Up Stand Up
DESCRIPTION:Level Up Stand-Up is back! Arcade’s monthly showcase is back with a new lineup. Hosted by Matty Malloy\, this show will feature Aarik Nesby\, Kimberly Bennett\, John Henry Watt\, Alex Stypula\, and Lizzie Martin.
URL:https://www.arcadecomedytheater.com/event/level-up-stand-up-19/
LOCATION:PA
ATTACH;FMTTYPE=image/jpeg:https://www.arcadecomedytheater.com/wp-content/uploads/2026/02/LevelUpMarch26digital-scaled.jpeg
END:VEVENT
BEGIN:VEVENT
DTSTART;TZID=America/New_York:20260312T190000
DTEND;TZID=America/New_York:20260312T190000
DTSTAMP:20260421T083640
CREATED:20251123T214107Z
LAST-MODIFIED:20260114T164726Z
UID:10001156-1773342000-1773342000@www.arcadecomedytheater.com
SUMMARY:House Team Hot Spot
DESCRIPTION:A Trio of Home-Grown Improv Teams \nArcade Comedy Theater presents the House Team Hot Spot — a show featuring a rotating set of our very own improv comedy teams. Each performance features house teams jumping into the hot spot and bringing their unique brand of comedy. See lively short-form games with plenty of opportunities for the audience to get involved; kick back and watch a dynamic long-form improv set unfold based on a single suggestion. All of it adds up to a unique night of live comedy that burns bright for 75 minutes! \nRuntime: 75 minutes \nTickets $15 / $10 college students\nAges 16 & up\nBYOB 21+
URL:https://www.arcadecomedytheater.com/event/house-team-hot-spot-61/
LOCATION:PA
ATTACH;FMTTYPE=image/png:https://www.arcadecomedytheater.com/wp-content/uploads/2025/08/HotSpot-2025Fall.png
END:VEVENT
BEGIN:VEVENT
DTSTART;TZID=America/New_York:20260313T190000
DTEND;TZID=America/New_York:20260313T190000
DTSTAMP:20260421T083640
CREATED:20260121T230647Z
LAST-MODIFIED:20260121T230652Z
UID:10001248-1773428400-1773428400@www.arcadecomedytheater.com
SUMMARY:House Team Spotlight – Danger Stage
DESCRIPTION:Arcade Comedy Theater presents Danger Stage\, one of the 2025 House Team Spotlights.Composed of ten veteran improvisers and instructors\, Danger Stage established their zany brand of short-form improvised comedy (think Whose Line Is It Anyway?) as a 2024 house team\, and are elated to present their own show. \nDuring the show\, expect to shape what you see with lots of suggestions\, see your own life inspire new comedy\, and even get the chance to be in the spotlight! Every show concludes with the Danger Zone\, incorporating ideas throughout the show into a final fever dream where not even the improvisers know what’s going to happen next! \nRuntime: 75 minutes \nTickets $15 / $10 college studentsAges 16 & upBYOB 21+
URL:https://www.arcadecomedytheater.com/event/house-team-spotlight-danger-stage/
LOCATION:PA
ATTACH;FMTTYPE=image/png:https://www.arcadecomedytheater.com/wp-content/uploads/2025/11/DangerStage-Evergreen-2025-2026.png
END:VEVENT
END:VCALENDAR