BEGIN:VCALENDAR
VERSION:2.0
PRODID:-//Arcade Comedy Theater - ECPv6.15.20//NONSGML v1.0//EN
CALSCALE:GREGORIAN
METHOD:PUBLISH
X-WR-CALNAME:Arcade Comedy Theater
X-ORIGINAL-URL:https://www.arcadecomedytheater.com
X-WR-CALDESC:Events for Arcade Comedy Theater
REFRESH-INTERVAL;VALUE=DURATION:PT1H
X-Robots-Tag:noindex
X-PUBLISHED-TTL:PT1H
BEGIN:VTIMEZONE
TZID:America/New_York
BEGIN:DAYLIGHT
TZOFFSETFROM:-0500
TZOFFSETTO:-0400
TZNAME:EDT
DTSTART:20250309T070000
END:DAYLIGHT
BEGIN:STANDARD
TZOFFSETFROM:-0400
TZOFFSETTO:-0500
TZNAME:EST
DTSTART:20251102T060000
END:STANDARD
BEGIN:DAYLIGHT
TZOFFSETFROM:-0500
TZOFFSETTO:-0400
TZNAME:EDT
DTSTART:20260308T070000
END:DAYLIGHT
BEGIN:STANDARD
TZOFFSETFROM:-0400
TZOFFSETTO:-0500
TZNAME:EST
DTSTART:20261101T060000
END:STANDARD
BEGIN:DAYLIGHT
TZOFFSETFROM:-0500
TZOFFSETTO:-0400
TZNAME:EDT
DTSTART:20270314T070000
END:DAYLIGHT
BEGIN:STANDARD
TZOFFSETFROM:-0400
TZOFFSETTO:-0500
TZNAME:EST
DTSTART:20271107T060000
END:STANDARD
END:VTIMEZONE
BEGIN:VEVENT
DTSTART;TZID=America/New_York:20260424T190000
DTEND;TZID=America/New_York:20260424T190000
DTSTAMP:20260424T015053
CREATED:20260421T170838Z
LAST-MODIFIED:20260421T170844Z
UID:10001343-1777057200-1777057200@www.arcadecomedytheater.com
SUMMARY:Comedy Press Conference
DESCRIPTION:Comics hit the stage and deliver their sets. Then\, they step up to the podium and face the press. These comedians are hilariously talented but have absolutely ZERO media training.  \nFeaturing: Ronnie Fleming\, Lydia Henninger\, Alyssa Moon\, Andreas O’Rourke\, and Blake Scala
URL:https://www.arcadecomedytheater.com/event/comedy-press-conference/
ATTACH;FMTTYPE=image/png:https://www.arcadecomedytheater.com/wp-content/uploads/2026/04/Comedy-Press-Conference-1080-x-1080.png
END:VEVENT
BEGIN:VEVENT
DTSTART;TZID=America/New_York:20260424T210000
DTEND;TZID=America/New_York:20260424T210000
DTSTAMP:20260424T015053
CREATED:20260405T230453Z
LAST-MODIFIED:20260405T230458Z
UID:10001300-1777064400-1777064400@www.arcadecomedytheater.com
SUMMARY:Select Start Improv Show
DESCRIPTION:And with the first pick of the IMPROV draft Select Start chooses…..YOU!! Yinzers and football fanatics from across the country are descending on Pittsburgh for the NFL draft and Select Start is ready to break down the insanity. From teammates that have money riding on a 4 team parlay on Sundays to others that lovingly refer to any sport as “Sportsball”\, we’re ready to hit the turf and perform under those Friday Night Lights!!
URL:https://www.arcadecomedytheater.com/event/select-start-improv-show-15/
ATTACH;FMTTYPE=image/png:https://www.arcadecomedytheater.com/wp-content/uploads/2026/04/Rough-Draft.Square-scaled.png
END:VEVENT
END:VCALENDAR